BEGIN:VCALENDAR
PRODID:-//eluceo/ical//2.0/EN
VERSION:2.0
CALSCALE:GREGORIAN
BEGIN:VEVENT
UID:e24f3f04da28f4e7f83ce5ae3434736f
DTSTAMP:20260422T190112Z
SUMMARY:Anniversary Charter Dinner
DESCRIPTION:Website: https://www.albisguetli.ch/
URL:https://zurich-international.rotaract.ch/nl/agenda/show/178278
DTSTART;TZID=Europe/Zurich:20240706T180000
DTEND;TZID=Europe/Zurich:20240707T000000
LOCATION:Restaurant Albisgüetli
CATEGORIES:Rotaract
END:VEVENT
BEGIN:VTIMEZONE
TZID:Europe/Zurich
BEGIN:DAYLIGHT
DTSTART:20240706T180000
TZNAME:CEST
TZOFFSETTO:+0200
TZOFFSETFROM:+0200
END:DAYLIGHT
END:VTIMEZONE
END:VCALENDAR
