BEGIN:VCALENDAR
PRODID:-//eluceo/ical//2.0/EN
VERSION:2.0
CALSCALE:GREGORIAN
BEGIN:VEVENT
UID:f563a34222b07a8c9d931d7460e0eeac
DTSTAMP:20260422T165400Z
SUMMARY:General Assembly
DESCRIPTION:Website: https://www.rotary.org/en/about-rotary/our-leaders/int
 ernational-offices
URL:https://zurich-international.rotaract.ch/nl/agenda/show/177538
DTSTART;TZID=Europe/Zurich:20240607T183000
DTEND;TZID=Europe/Zurich:20240607T223000
LOCATION:Rotary International\, Witikonerstr. 15\, 8032 Zürich
CATEGORIES:Rotaract
END:VEVENT
BEGIN:VTIMEZONE
TZID:Europe/Zurich
BEGIN:DAYLIGHT
DTSTART:20240607T183000
TZNAME:CEST
TZOFFSETTO:+0200
TZOFFSETFROM:+0200
END:DAYLIGHT
END:VTIMEZONE
END:VCALENDAR
