BEGIN:VCALENDAR
PRODID:-//eluceo/ical//2.0/EN
VERSION:2.0
CALSCALE:GREGORIAN
BEGIN:VEVENT
UID:fb613689c925281efedc5a4e5f931e1f
DTSTAMP:20260424T124727Z
SUMMARY:Company Visit: UBS Vault
DESCRIPTION:
URL:https://zurich-international.rotaract.ch/it/agenda/show/137123
DTSTART;TZID=Europe/Zurich:20220609T180000
DTEND;TZID=Europe/Zurich:20220609T200000
LOCATION:TBD
CATEGORIES:Rotaract
END:VEVENT
BEGIN:VTIMEZONE
TZID:Europe/Zurich
BEGIN:DAYLIGHT
DTSTART:20220609T180000
TZNAME:CEST
TZOFFSETTO:+0200
TZOFFSETFROM:+0200
END:DAYLIGHT
END:VTIMEZONE
END:VCALENDAR
