BEGIN:VCALENDAR
PRODID:-//eluceo/ical//2.0/EN
VERSION:2.0
CALSCALE:GREGORIAN
BEGIN:VEVENT
UID:7ac9d89d7bf4a0721c96a2c6da4e2820
DTSTAMP:20260423T160746Z
SUMMARY:Presentation: Sustainability and impact investing
DESCRIPTION:Relatore/i: Alessandra Coglio
URL:https://zurich-international.rotaract.ch/it/agenda/show/137115
DTSTART;TZID=Europe/Zurich:20220303T193000
DTEND;TZID=Europe/Zurich:20220303T213000
LOCATION:Rheinfelder Bierhalle
CATEGORIES:Rotaract
END:VEVENT
BEGIN:VTIMEZONE
TZID:Europe/Zurich
BEGIN:STANDARD
DTSTART:20220303T193000
TZNAME:CET
TZOFFSETTO:+0100
TZOFFSETFROM:+0100
END:STANDARD
END:VTIMEZONE
END:VCALENDAR
