BEGIN:VCALENDAR
PRODID:-//eluceo/ical//2.0/EN
VERSION:2.0
CALSCALE:GREGORIAN
BEGIN:VEVENT
UID:162783d83709e198a3099d4b39fda863
DTSTAMP:20260423T141029Z
SUMMARY:Company visit: Google
DESCRIPTION:
URL:https://zurich-international.rotaract.ch/it/agenda/show/137114
DTSTART;TZID=Europe/Zurich:20220217T193000
DTEND;TZID=Europe/Zurich:20220217T213000
LOCATION:TBD
CATEGORIES:Rotaract
END:VEVENT
BEGIN:VTIMEZONE
TZID:Europe/Zurich
BEGIN:STANDARD
DTSTART:20220217T193000
TZNAME:CET
TZOFFSETTO:+0100
TZOFFSETFROM:+0100
END:STANDARD
END:VTIMEZONE
END:VCALENDAR
