BEGIN:VCALENDAR
PRODID:-//eluceo/ical//2.0/EN
VERSION:2.0
CALSCALE:GREGORIAN
BEGIN:VEVENT
UID:f99ba50fb0354755f70aabb802b31305
DTSTAMP:20260423T140959Z
SUMMARY:Presentation: First-line impressins of the battle against COVID-19
DESCRIPTION:
URL:https://zurich-international.rotaract.ch/it/agenda/show/137113
DTSTART;TZID=Europe/Zurich:20220203T193000
DTEND;TZID=Europe/Zurich:20220203T213000
LOCATION:Rheinfelder Bierhalle
CATEGORIES:Rotaract
END:VEVENT
BEGIN:VTIMEZONE
TZID:Europe/Zurich
BEGIN:STANDARD
DTSTART:20220203T193000
TZNAME:CET
TZOFFSETTO:+0100
TZOFFSETFROM:+0100
END:STANDARD
END:VTIMEZONE
END:VCALENDAR
