BEGIN:VCALENDAR
PRODID:-//eluceo/ical//2.0/EN
VERSION:2.0
CALSCALE:GREGORIAN
BEGIN:VEVENT
UID:5e26d81ec96f3c24d6d6ca9c78a1b241
DTSTAMP:20260419T124022Z
SUMMARY:Presentation: Aiducation
DESCRIPTION:
URL:https://zurich-international.rotaract.ch/bs/agenda/show/137117
DTSTART;TZID=Europe/Zurich:20220407T193000
DTEND;TZID=Europe/Zurich:20220407T213000
LOCATION:Rheinfelder Bierhalle
CATEGORIES:Rotaract
END:VEVENT
BEGIN:VTIMEZONE
TZID:Europe/Zurich
BEGIN:DAYLIGHT
DTSTART:20220407T193000
TZNAME:CEST
TZOFFSETTO:+0200
TZOFFSETFROM:+0200
END:DAYLIGHT
END:VTIMEZONE
END:VCALENDAR
